BEGIN:VCALENDAR
VERSION:2.0
PRODID:-//hacksw/handcal//NONSGML v1.0//EN
BEGIN:VEVENT
UID:8719dc15987ab3727c92ece77321776eonlineregistration.cc
DTSTAMP:20260423T092826Z
DTSTART:20260711T190000Z
DTEND:20260711T190000Z
SUMMARY:2026 Rochester Open
DESCRIPTION:2026 Rochester Open organized by Minnesota State Chess Association
END:VEVENT
END:VCALENDAR